BEGIN:VCALENDAR
VERSION:2.0
PRODID:-//Tukios.com/
BEGIN:VEVENT
UID:547379b4-d369-47f7-9062-b0aba65e2329@www.watsonmilton.com
DTSTAMP:20260425T172023Z
DTSTART:20260529T150000Z
DTEND:20260529T180000Z
SUMMARY:Celebration of Life
DESCRIPTION:
URL:https://www.watsonmilton.com/obituaries/donald-bennink
LOCATION:his riverfront residence 238 Northeast 931st Street  Branford FL 
	32008
GEO:29.8042716;-82.9366092
END:VEVENT
END:VCALENDAR